BEGIN:VCALENDAR
VERSION:2.0
PRODID:-//ZContent.net//ZapCalLib 1.0//EN
CALSCALE:GREGORIAN
METHOD:PUBLISH
BEGIN:VEVENT
SUMMARY:Dyskusja i podsumowanie
DTSTART:20250225T180500
DTEND:20250225T193000
UID:Dyskusja i podsumowanie47933_1776722349
DTSTAMP:20260420T215909
Description:
END:VEVENT
END:VCALENDAR
