BEGIN:VCALENDAR
VERSION:2.0
PRODID:-//ZContent.net//ZapCalLib 1.0//EN
CALSCALE:GREGORIAN
METHOD:PUBLISH
BEGIN:VEVENT
SUMMARY:Nowe zalecenia dotyczące szczepień w ciąży (krztusiec, RSV)
DTSTART:20250225T174500
DTEND:20250225T190500
UID:Nowe zalecenia dotyczące szczepień w ciąży (krztusiec, RSV)47932_17
 76722348
DTSTAMP:20260420T215908
Description:
END:VEVENT
END:VCALENDAR
