BEGIN:VCALENDAR
VERSION:2.0
PRODID:-//ZContent.net//ZapCalLib 1.0//EN
CALSCALE:GREGORIAN
METHOD:PUBLISH
BEGIN:VEVENT
SUMMARY:Nowy schemat profilaktyki raka szyjki macicy
DTSTART:20250225T172500
DTEND:20250225T184500
UID:Nowy schemat profilaktyki raka szyjki macicy47931_1776722356
DTSTAMP:20260420T215916
Description:
END:VEVENT
END:VCALENDAR
