BEGIN:VCALENDAR
VERSION:2.0
PRODID:-//ZContent.net//ZapCalLib 1.0//EN
CALSCALE:GREGORIAN
METHOD:PUBLISH
BEGIN:VEVENT
SUMMARY:Rekomendacje dotyczące endometriozy 2024 (zmiany w rekomendacjach 
 Polskiego Towarzystwa Ginekologów i Położników)
DTSTART:20250225T170500
DTEND:20250225T182500
UID:Rekomendacje dotyczące endometriozy 2024 (zmiany w rekomendacjach Pols
 kiego Towarzystwa Ginekologów i Położników)47930_1776722348
DTSTAMP:20260420T215908
Description:
END:VEVENT
END:VCALENDAR
