BEGIN:VCALENDAR
VERSION:2.0
PRODID:-//ZContent.net//ZapCalLib 1.0//EN
CALSCALE:GREGORIAN
METHOD:PUBLISH
BEGIN:VEVENT
SUMMARY:Rozpoczęcie webinarium
DTSTART:20250225T170000
DTEND:20250225T180500
UID:Rozpoczęcie webinarium47929_1776722348
DTSTAMP:20260420T215908
Description:
END:VEVENT
END:VCALENDAR
